BEGIN:VCALENDAR
VERSION:2.0
PRODID:icalendar-ruby
CALSCALE:GREGORIAN
METHOD:PUBLISH
BEGIN:VEVENT
DTSTAMP:20260421T103306Z
UID:16-1157553@livingfaithgirard.net
DTSTART:20261025T150000Z
DTEND:20261025T160000Z
CLASS:PUBLIC
CREATED:20260420T191641
DESCRIPTION:
LAST-MODIFIED:20260420T191641
LOCATION:Sanctuary
SUMMARY:Sunday Worship
URL;VALUE=URI:https://www.lfcngirard.com/events/sunday-worship--15/2026-10-
 25
END:VEVENT
END:VCALENDAR
