BEGIN:VCALENDAR
VERSION:2.0
PRODID:icalendar-ruby
CALSCALE:GREGORIAN
METHOD:PUBLISH
BEGIN:VEVENT
DTSTAMP:20260421T122525Z
UID:16-1158315@livingfaithgirard.net
DTSTART:20261101T160000Z
DTEND:20261101T170000Z
CLASS:PUBLIC
CREATED:20260421T062306
DESCRIPTION:
LAST-MODIFIED:20260421T062306
LOCATION:Sanctuary
SUMMARY:Sunday Worship
URL;VALUE=URI:https://www.lfcngirard.com/events/sunday-worship--15/2026-11-
 01
END:VEVENT
END:VCALENDAR
